BEGIN:VCALENDAR
VERSION:2.0
PRODID:-//Krave Juice Bar - ECPv4.0.7//NONSGML v1.0//EN
CALSCALE:GREGORIAN
METHOD:PUBLISH
X-WR-CALNAME:Krave Juice Bar
X-ORIGINAL-URL:http://kravejuicebar.com.au
X-WR-CALDESC:Events for Krave Juice Bar
BEGIN:VEVENT
DTSTART;VALUE=DATE:20150926
DTEND;VALUE=DATE:20150927
DTSTAMP:20200301T224119
CREATED:20150908
LAST-MODIFIED:20150908
UID:19-1443225600-1443398399@kravejuicebar.com.au
SUMMARY:Handmade Canberra
DESCRIPTION:We are very excited to be attending Handmade Canberra on the 26th and 27th of September. This is the third year in a row we will have attended this event and we will be proving our cold pressed fresh juices\, our delicious lemonades\, and our fabulous fruit salads\, all made on site!
URL:http://kravejuicebar.com.au/event/handmade-canberra/
LOCATION:20 Allara St\, Canberra\, ACT\, 2601\, Australia
ATTACH;FMTTYPE=image/jpeg:http://kravejuicebar.com.au/wp-content/uploads/2015/09/Facebook-Page-Logo.jpg
END:VEVENT
END:VCALENDAR