BEGIN:VCALENDAR
VERSION:2.0
PRODID:-//Krave Juice Bar - ECPv4.0.7//NONSGML v1.0//EN
CALSCALE:GREGORIAN
METHOD:PUBLISH
X-WR-CALNAME:Krave Juice Bar
X-ORIGINAL-URL:http://kravejuicebar.com.au
X-WR-CALDESC:Events for Krave Juice Bar
BEGIN:VEVENT
DTSTART;VALUE=DATE:20150919
DTEND;VALUE=DATE:20150919
DTSTAMP:20200301T224013
CREATED:20150908
LAST-MODIFIED:20150908
UID:17-1442620800-1442707199@kravejuicebar.com.au
SUMMARY:Bunnings Tuggeranong Spring Launch
DESCRIPTION:We will be attending Bunnings Warehouse Spring Launch at Tuggeranong thanks to Bunnings Warehouse.
URL:http://kravejuicebar.com.au/event/bunnings-tuggeranong-spring-launch/
LOCATION: Anketell St\, Greenway\, ACT\, 2900\, Australia
ATTACH;FMTTYPE=image/jpeg:http://kravejuicebar.com.au/wp-content/uploads/2015/09/Facebook-Page-Logo.jpg
END:VEVENT
END:VCALENDAR